BEGIN:VCALENDAR
VERSION:2.0
PRODID:-//eventon.com NONSGML v1.0//EN
CALSCALE:GREGORIAN
METHOD:PUBLISH
BEGIN:VEVENT
UID:69e766c1459d7
DTSTAMP:20260421T120001Z
DTSTART:20260520T133000Z
DTEND:20260520T215900Z
LOCATION:Wallenhorst | Ruller Haus Klosterstr. 4\,  Wallenhorst-Rulle
SUMMARY:„Dr. Brumm und der Megasaurus“ | Kreatives Bilderbuch­kino
DESCRIPTION:Dr. Brumm hat einen festen Wochenplan. Jeden Freitag arbeitet e
 r im Garten. Als er heute beim Graben einen echten Dinoknochen entdeckt ist
  die Aufregung groß. Das Bilderbuch „Dr. Brumm und der Megasaurus“ von
  Daniel Napp wird von LiesA (Stephanie Scholze) vorgelesen und die Bilder d
 azu auf der Großbildleinwand präsentiert. Mit[..]\nhttps://kukuk.de/event
 s/dr-brumm-und-der-megasaurus-kreatives-bilderbuchkino/
URL:https://kukuk.de/events/dr-brumm-und-der-megasaurus-kreatives-bilderbuchkino/
END:VEVENT
END:VCALENDAR