BEGIN:VCALENDAR
VERSION:2.0
PRODID:-//eventon.com NONSGML v1.0//EN
CALSCALE:GREGORIAN
METHOD:PUBLISH
BEGIN:VEVENT
UID:69e766a59b562
DTSTAMP:20260421T115933Z
DTSTART:20260602T173000Z
DTEND:20260602T215900Z
LOCATION:Osnabrück | Rosenhof Rosenplatz 23
SUMMARY:Das 87. Osna­brücker Rudel­singen
DESCRIPTION:Singen macht nicht nur glücklich und schön\,  es kann auch Gu
 tes tun. Mit dem Rudelsingen ist vor 4 Jahren in Münster ein neuer Trend e
 ntstanden. Jeden Monat treffen sich über 6.000 Menschen\,  um in lockerer 
 Atmosphäre in über 60 Städten in fast ganz Deutschland\,  Niedersachen\,
   Bremen und Hamburg gemeinsam zu[..]\nhttps://kukuk.de/events/das-86-osnab
 ruecker-rudelsingen-2/
URL:https://kukuk.de/events/das-86-osnabruecker-rudelsingen-2/
END:VEVENT
END:VCALENDAR