BEGIN:VCALENDAR
VERSION:2.0
PRODID:-//eventon.com NONSGML v1.0//EN
CALSCALE:GREGORIAN
METHOD:PUBLISH
BEGIN:VEVENT
UID:69e8d9c3e95bc
DTSTAMP:20260422T142259Z
DTSTART:20260514T140000Z
DTEND:20260514T215900Z
LOCATION:Osnabrück | Piesberger Gesellschaftshaus Glückaufstr. 1
SUMMARY:Silent Dance
DESCRIPTION:Ihr wählt selbst die Musik\,  zu der ihr tanzen möchtet\,  Ko
 pfhörer auf und dann geht´s los! Auf einem wunderbaren Holztanzboden unte
 r Linden und Kastanien schwebt ihr in den Tanzhimmel… oder ihr rockt ihn 
 ab! Und zwischendurch gibt´s lecker Kaffee &amp; Kuchen!\nhttps://kukuk.de
 /events/silent-dance/
URL:https://kukuk.de/events/silent-dance/
END:VEVENT
END:VCALENDAR