BEGIN:VCALENDAR
VERSION:2.0
PRODID:-//eventon.com NONSGML v1.0//EN
CALSCALE:GREGORIAN
METHOD:PUBLISH
BEGIN:VEVENT
UID:69e766a7c10c7
DTSTAMP:20260421T115935Z
DTSTART:20260506T173000Z
DTEND:20260506T215900Z
LOCATION:Osnabrück | Haus der Jugend Große Gildewart 6-9
SUMMARY:An Evening With The Ostensibles
DESCRIPTION:The Ostensibles invite you to an evening of short plays and imp
 rov theater. Selected scenes from “Check Please” by Jonathan Rand: From
  “star-crossed lovers” to “getting the ick”\,  we’ve got every da
 ting cliché in the book. “Bloody Mary” by Greg Vovos: A tale of two st
 rangers\,  who risk an arm[..]\nhttps://kukuk.de/events/an-evening-with-the
 -ostensibles/
URL:https://kukuk.de/events/an-evening-with-the-ostensibles/
END:VEVENT
END:VCALENDAR