BEGIN:VCALENDAR
VERSION:2.0
PRODID:-//eventon.com NONSGML v1.0//EN
CALSCALE:GREGORIAN
METHOD:PUBLISH
BEGIN:VEVENT
UID:69e766f67e1be
DTSTAMP:20260421T120054Z
DTSTART:20260614T160000Z
DTEND:20260614T215900Z
LOCATION:Osnabrück | OsnabrückHalle Schlosswall 1
SUMMARY:Heaven Can Wait: „Jetzt erst recht!“ | 20 Jahre HelpAge Deutschland e. V.
DESCRIPTION:Zum Abschluss ihres Jubiläumsjahres ein Abend ganz im Zeichen 
 der Lebensfreude\,  der gesellschaftlichen Teilhabe und der Würde älterer
  Menschen weltweit. Der Hamburger Chor Heaven Can Wait\,  bestehend aus run
 d 35 Sänger*innen im Alter zwischen 70 und 93 Jahren – präsentieren mit
  beeindruckender Energie aktuelle Songs der Enkelgeneration. Ihre Interpret
 ationen verändern[..]\nhttps://kukuk.de/events/heaven-can-wait-jetzt-erst-
 recht-20-jahre-helpage-deutschland-e-v/
URL:https://kukuk.de/events/heaven-can-wait-jetzt-erst-recht-20-jahre-helpage-deutschland-e-v/
END:VEVENT
END:VCALENDAR