BEGIN:VCALENDAR
VERSION:2.0
PRODID:-//eventon.com NONSGML v1.0//EN
CALSCALE:GREGORIAN
METHOD:PUBLISH
BEGIN:VEVENT
UID:69e766c180d70
DTSTAMP:20260421T120001Z
DTSTART:20260619T180000Z
DTEND:20260619T210000Z
LOCATION:Osnabrück | Haus der Jugend (Saal Bocksmauer) Bocksmauer 13
SUMMARY:Runarounds + Saint Nudes + Neon Bone | Punkrock­abend
DESCRIPTION:„Blitzkrieg Bop“\,  „I Wanna Be Sedated“\,  „Sheena I
 s A Punkrocker“ – wer kennt diese Songs nicht? Doch die legendären Ram
 ones hatten auch eine Menge Lieder\,  die selbst bei manchen Fans nur wenig
  Beachtung fanden und von den New Yorker Punk Pionieren teilweise nie live 
 gespielt wurden. Zu Unrecht\,  finden die[..]\nhttps://kukuk.de/events/runa
 rounds-saint-nudes-neon-bone-punkrockabend/
URL:https://kukuk.de/events/runarounds-saint-nudes-neon-bone-punkrockabend/
END:VEVENT
END:VCALENDAR