BEGIN:VCALENDAR
VERSION:2.0
PRODID:-//eventon.com NONSGML v1.0//EN
CALSCALE:GREGORIAN
METHOD:PUBLISH
BEGIN:VEVENT
UID:69e766f52ccd6
DTSTAMP:20260421T120053Z
DTSTART:20260603T180000Z
DTEND:20260603T215900Z
LOCATION:Osnabrück | Haus der Jugend (Saal Bocksmauer) Bocksmauer 13
SUMMARY:True Moon + Klotzs
DESCRIPTION:True Moon [Malmö] präsentieren eine bezaubernde Mischung aus
  Dark Wave\,  Post&#8211;Punk und Alternative\,  die über musikalische Tre
 nds hinausgeht. Karolina Engdahl (Gesang/Bass) und Tommy Tift (Gitarre)\,  
 Mitglieder der renommierten\,  für den Grammy nominierten Band Vånna Inge
 t\,  haben eine fesselnde Dunkelheit geschaffen. Ihr selbstbetiteltes Debü
 talbum mit einem Sound voller bittersüßer Dämmerung erregte große[..]\n
 https://kukuk.de/events/true-moon-klotzs/
URL:https://kukuk.de/events/true-moon-klotzs/
END:VEVENT
END:VCALENDAR