BEGIN:VCALENDAR
VERSION:2.0
PRODID:-//eventon.com NONSGML v1.0//EN
CALSCALE:GREGORIAN
METHOD:PUBLISH
BEGIN:VEVENT
UID:69e766a552a48
DTSTAMP:20260421T115933Z
DTSTART:20260523T170000Z
DTEND:20260523T215900Z
LOCATION:Osnabrück | Haus der Jugend (Saal Bocksmauer) Bocksmauer 13
SUMMARY:Goon + Fat Rhino + Deaf-Act + Cover Identity | FUZZ & FURIOUS
DESCRIPTION:Mit einem massiven Sound aus Heavy und Stoner Rock\,  scharfen 
 Riffs und eingängigen Gesangslinien reißen Goon [Osnabrück] das Raum-Zei
 t-Kontinuum auf und katapultieren uns zurück in die glorreichen 90er- und 
 00er-Jahre. Mit ihrer letzten EP „Entelechy“ haben sie ein kraftvolles 
 Statement abgegeben. Im eigenen Studio entstand ein Werk mit 7 Tracks\, [..
 ]\nhttps://kukuk.de/events/goon-fat-rhino-deaf-act-cover-identity-fuzz-furi
 ous/
URL:https://kukuk.de/events/goon-fat-rhino-deaf-act-cover-identity-fuzz-furious/
END:VEVENT
END:VCALENDAR