BEGIN:VCALENDAR
VERSION:2.0
PRODID:-//eventon.com NONSGML v1.0//EN
CALSCALE:GREGORIAN
METHOD:PUBLISH
BEGIN:VEVENT
UID:69e766c29dbfa
DTSTAMP:20260421T120002Z
DTSTART:20260502T180000Z
DTEND:20260502T215900Z
LOCATION:Osnabrück | Haus der Jugend (Saal Bocksmauer) Bocksmauer 13
SUMMARY:Do Not Bleach + Casino Garden + Goon | May Mayhem³
DESCRIPTION:Anlaufen\,  Luft holen\,  abtauchen – in den tosenden Sound v
 on Do Not Bleach. Die frisch gewaschene Modern-Rock-Band aus Osnabrück ist
  immer auf der Suche nach besonderen Riffs und eingängigen Melodien\,  die
  ins Ohr gehen und einen in ihren Bann ziehen. Mit ihrer selbstproduzierten
  EP „Headfirst“ haben sie 2024 erste Wellen[..]\nhttps://kukuk.de/event
 s/do-not-bleach-casino-garden-goon-may-mayhem%c2%b3/
URL:https://kukuk.de/events/do-not-bleach-casino-garden-goon-may-mayhem%c2%b3/
END:VEVENT
END:VCALENDAR