BEGIN:VCALENDAR
VERSION:2.0
PRODID:-//eventon.com NONSGML v1.0//EN
CALSCALE:GREGORIAN
METHOD:PUBLISH
BEGIN:VEVENT
UID:69e76788613a0
DTSTAMP:20260421T120320Z
DTSTART:20260430T180000Z
DTEND:20260430T215900Z
LOCATION:Osnabrück | Haus der Jugend (Saal Bocksmauer) Bocksmauer 13
SUMMARY:Lichterfeld: „Dünen“ (Release-Konzert) + Jule + Pelle
DESCRIPTION:Lichterfeld [Osnabrück] machen Indie-Punk\,  der emotional und
  authentisch ist. Gerne auch rotzig\,  meistens tanzbar\,  immer direkt und
  persönlich. Sie bringen eine mitreißende Live-Energie auf die Bühne\,  
 die ihre Zuhörer*innen abholt. Die 5 Musiker nehmen sich dabei selbst nich
 t immer allzu ernst\,  formulieren ihre Message aber klar und unmissverstä
 ndlich: keine Homo-[..]\nhttps://kukuk.de/events/lichterfeld-duenen-release
 -konzert-jule-pelle/
URL:https://kukuk.de/events/lichterfeld-duenen-release-konzert-jule-pelle/
END:VEVENT
END:VCALENDAR