BEGIN:VCALENDAR
VERSION:2.0
PRODID:-//eventon.com NONSGML v1.0//EN
CALSCALE:GREGORIAN
METHOD:PUBLISH
BEGIN:VEVENT
UID:69e766a8d02a1
DTSTAMP:20260421T115936Z
DTSTART:20260604T150000Z
DTEND:20260604T215900Z
LOCATION:Osnabrück | Museum am Schölerberg (Museumsgarten) Klaus-Strick-Weg 12
SUMMARY:Abend­spaziergang im Museums­garten
DESCRIPTION:Unter dem Motto „Magische Geschichten zu Kräutern und Früch
 ten“ finden von Mai bis September geführte Spaziergänge durch den Museu
 msgarten statt. Pflanzen und Kräutern werden seit jeher auch magische Wirk
 ungen zugeschrieben. Das Kleeblatt bringt Glück\,  der Apfel die Liebe und
  der Breitwegerich galt gar als Orakelpflanze. In den Abendspaziergängen g
 eht es[..]\nhttps://kukuk.de/events/abendspaziergang-im-museumsgarten-2/
URL:https://kukuk.de/events/abendspaziergang-im-museumsgarten-2/
END:VEVENT
END:VCALENDAR