BEGIN:VCALENDAR
VERSION:2.0
PRODID:-//eventon.com NONSGML v1.0//EN
CALSCALE:GREGORIAN
METHOD:PUBLISH
BEGIN:VEVENT
UID:69e766a927ebe
DTSTAMP:20260421T115937Z
DTSTART:20260530T180000Z
DTEND:20260530T215900Z
LOCATION:Osnabrück | Lutherhaus Jahnstr. 1
SUMMARY:Die Pubertätsdocs: „Chill mal! Pubertät – Loslassen und Halt geben“
DESCRIPTION:Haben Sie Kinder in der Pubertät? Herzlichen Glückwunsch – 
 langweilig wird es Ihnen garantiert nicht! Die Pubertät ist eine herausfor
 dernde Zeit: Türen knallen\,  Eltern gelten als peinlich oder sogar toxisc
 h. Für alle Familienmitglieder ist diese Phase anstrengend\,  die Nerven l
 iegen blank und selbst die geduldigsten Eltern fühlen sich oft ratlos.[..]
 \nhttps://kukuk.de/events/die-pubertaetsdocs-chill-mal-pubertaet-loslassen-
 und-halt-geben/
URL:https://kukuk.de/events/die-pubertaetsdocs-chill-mal-pubertaet-loslassen-und-halt-geben/
END:VEVENT
END:VCALENDAR