BEGIN:VCALENDAR
VERSION:2.0
PRODID:-//eventon.com NONSGML v1.0//EN
CALSCALE:GREGORIAN
METHOD:PUBLISH
BEGIN:VEVENT
UID:69e766b0ecdd8
DTSTAMP:20260421T115944Z
DTSTART:20260507T170000Z
DTEND:20260507T183000Z
LOCATION:Osnabrück | Steinwerk Ledenhof (Renaissancesaal) Am Ledenhof 3
SUMMARY:Samuel Kramer: „endlich regen“ | Hass.Liebe.Lyrik.
DESCRIPTION:„Wir erwarten zu viel\,  nicht nur vom Ende.“ Samuel Kramer
  ergründet die Möglichkeiten politischer Gedichte in einer Welt\,  die vo
 n multiplen Katastrophen\,  „unterirdischen Slogans“ und „siedenden T
 räumen“ bestimmt wird. Was lässt sich wenden\,  wenn alles zu spät sch
 ein? Und wann regnet es endlich wieder? Den vorgeschriebenen Erzählungen v
 om sicheren Ende[..]\nhttps://kukuk.de/events/samuel-kramer-endlich-regen-h
 ass-liebe-lyrik/
URL:https://kukuk.de/events/samuel-kramer-endlich-regen-hass-liebe-lyrik/
END:VEVENT
END:VCALENDAR