BEGIN:VCALENDAR
VERSION:2.0
PRODID:-//eventon.com NONSGML v1.0//EN
CALSCALE:GREGORIAN
METHOD:PUBLISH
BEGIN:VEVENT
UID:69e766860f9ba
DTSTAMP:20260421T115902Z
DTSTART:20260425T190000Z
DTEND:20260425T215900Z
LOCATION:Osnabrück | Kleine Freiheit Dammstr. 2
SUMMARY:hard_art | Boiling Art Room
DESCRIPTION:Die HardArt verbindet Kunst und Techno. In der Kunstausstellung
  zeigt Alexandra Malobrodski ihre Fotografien\,  in denen sie den Dialog zw
 ischen Realität und Unrealität\,  Traum und Wirklichkeit erschafft und in
 szeniert. Begleitet wird die Ausstellung von der jungen Indie-Pop Musikerin
  Naomi. Naomis Texte handeln von Liebe\,  ihren eigenen Wurzeln\,  dem Rass
 ismus und[..]\nhttps://kukuk.de/events/hard_art-boiling-art-room/
URL:https://kukuk.de/events/hard_art-boiling-art-room/
END:VEVENT
END:VCALENDAR