BEGIN:VCALENDAR
VERSION:2.0
PRODID:-//eventon.com NONSGML v1.0//EN
CALSCALE:GREGORIAN
METHOD:PUBLISH
BEGIN:VEVENT
UID:69e766a66b0f4
DTSTAMP:20260421T115934Z
DTSTART:20260527T170000Z
DTEND:20260527T215900Z
LOCATION:Osnabrück | Lagerhalle Rolandsmauer 26\,  49074 Osnabrück
SUMMARY:„Future Council – Komm an Bord“ (Original mit Untertiteln)
DESCRIPTION:Die Zukunft muss kein Dystopie sein. Lasst uns gemeinsam positi
 ve Visionen entdecken und entwickeln! Als erster Teil des Projekts liefert 
 „Future Council – Komm an Bord“ Hoffnung und Inspiration. Er zeigt\, 
  wie sich junge Menschen für Generationengerechtigkeit einsetzen und wie d
 ie Welt besser werden könnte\,  wenn die Stimmen von Kindern[..]\nhttps://
 kukuk.de/events/future-council-komm-an-bord-original-mit-untertiteln/
URL:https://kukuk.de/events/future-council-komm-an-bord-original-mit-untertiteln/
END:VEVENT
END:VCALENDAR