BEGIN:VCALENDAR
VERSION:2.0
PRODID:-//eventon.com NONSGML v1.0//EN
CALSCALE:GREGORIAN
METHOD:PUBLISH
BEGIN:VEVENT
UID:69e766a6f0a73
DTSTAMP:20260421T115934Z
DTSTART:20260522T180000Z
DTEND:20260522T215900Z
LOCATION:Osnabrück | Lagerhalle Rolandsmauer 26\,  49074 Osnabrück
SUMMARY:Jever Song Night
DESCRIPTION:Eric Koslosky ist ein US-amerikanischer Sänger\,  Songwriter\,
   Gitarrist und Bassist. Bekannt für seine gefühlvolle Stimme\,  sein aus
 drucksstarkes musikalisches Können und seine dynamische Bühnenpräsenz\, 
  hat sich Eric einen Ruf als vielseitiger Künstler erarbeitet. Ein Großte
 il von Erics Songwriting wurde durch das Leben auf der Straße und in der L
 uft geprägt. Auf[..]\nhttps://kukuk.de/events/jever-song-night/
URL:https://kukuk.de/events/jever-song-night/
END:VEVENT
END:VCALENDAR