BEGIN:VCALENDAR
VERSION:2.0
PRODID:-//eventon.com NONSGML v1.0//EN
CALSCALE:GREGORIAN
METHOD:PUBLISH
BEGIN:VEVENT
UID:69e766afd4a1c
DTSTAMP:20260421T115943Z
DTSTART:20260521T180000Z
DTEND:20260521T215900Z
LOCATION:Osnabrück | Lagerhalle Rolandsmauer 26\,  49074 Osnabrück
SUMMARY:Alex Stoldt: „Quasi Nichts“
DESCRIPTION:Der Titel verspricht auf jeden Fall nicht zuviel!\nhttps://kuku
 k.de/events/alex-stoldt-quasi-nichts/
URL:https://kukuk.de/events/alex-stoldt-quasi-nichts/
END:VEVENT
END:VCALENDAR