BEGIN:VCALENDAR
VERSION:2.0
PRODID:-//eventon.com NONSGML v1.0//EN
CALSCALE:GREGORIAN
METHOD:PUBLISH
BEGIN:VEVENT
UID:69e766c12d41d
DTSTAMP:20260421T120001Z
DTSTART:20260519T181500Z
DTEND:20260519T215900Z
LOCATION:Osnabrück | Lagerhalle Rolandsmauer 26\,  49074 Osnabrück
SUMMARY:„Nouvelle Vague“
DESCRIPTION:Paris\,  Ende der 1950er-Jahre: Der 28-jährige Jean-Luc Godard
  hat als Einziger in seinem Freundeskreis noch keinen eigenen Film gemacht.
  Mit einem verrückten Team\,  einem amerikanischen Filmstar und wenig Geld
  gelingt ihm schließlich unter abenteuerlichen Umständen mit „Außer At
 em“ ein Meisterwerk\,  das im französischen Kino die titelgebende „neu
 e Welle“ auslöste. In[..]\nhttps://kukuk.de/events/nouvelle-vague-2/
URL:https://kukuk.de/events/nouvelle-vague-2/
END:VEVENT
END:VCALENDAR