BEGIN:VCALENDAR
VERSION:2.0
PRODID:-//eventon.com NONSGML v1.0//EN
CALSCALE:GREGORIAN
METHOD:PUBLISH
BEGIN:VEVENT
UID:69e8da9c52533
DTSTAMP:20260422T142636Z
DTSTART:20260515T210000Z
DTEND:20260515T215900Z
LOCATION:Osnabrück | Lagerhalle Rolandsmauer 26\,  49074 Osnabrück
SUMMARY:Tanzen!
DESCRIPTION:Der Name ist Programm\,  denn es geht durch die unterschiedlich
 en Musikgenres quer durch die Dekaden! Dabei sind Alternative\,  Indie Pop\
 ,  deutsch Pop\,  Funk&#8217;n&#8217;Soul\,  EDM\,  Classix\,  Electro Swin
 g\,  Rock\,  Hip Hop… Mit: DJ Pseiko &amp; DJ AWeSome\nhttps://kukuk.de/e
 vents/tanzen-2/
URL:https://kukuk.de/events/tanzen-2/
END:VEVENT
END:VCALENDAR