BEGIN:VCALENDAR
VERSION:2.0
PRODID:-//eventon.com NONSGML v1.0//EN
CALSCALE:GREGORIAN
METHOD:PUBLISH
BEGIN:VEVENT
UID:69e76688df5a1
DTSTAMP:20260421T115904Z
DTSTART:20260513T181500Z
DTEND:20260513T215900Z
LOCATION:Osnabrück | Lagerhalle Rolandsmauer 26\,  49074 Osnabrück
SUMMARY:„Cotton Queen“ (Original mit Untertiteln)
DESCRIPTION:Die fünfzehnjährige Nafisa lebt in einem traditionellen Baumw
 olldorf im Sudan. Sie hat Sommerferien und muss mit ihren Freundinnen bei d
 er Baumwollernte ihrer Großmutter helfen. Außerdem ist sie zum ersten Mal
  verliebt – in einen Jungen aus dem Dorf. Ihre Großmutter Al-Sit\,  die 
 geachtete Matriarchin\,  hält die Fäden des Dorfs fest[..]\nhttps://kukuk
 .de/events/cotton-queen-original-mit-untertiteln-2/var/ri-1.l-L1
URL:https://kukuk.de/events/cotton-queen-original-mit-untertiteln-2/var/ri-1.l-L1
END:VEVENT
END:VCALENDAR