BEGIN:VCALENDAR
VERSION:2.0
PRODID:-//eventon.com NONSGML v1.0//EN
CALSCALE:GREGORIAN
METHOD:PUBLISH
BEGIN:VEVENT
UID:69e8d9672f0f2
DTSTAMP:20260422T142127Z
DTSTART:20260509T101500Z
DTEND:20260509T104500Z
LOCATION:Osnabrück | St. Marien Markt
SUMMARY:Ökumenische Marktmusik
DESCRIPTION:Im November 2022 startete ein neues musikalisches Format in Osn
 abrück: Auf Initiative von Domorganist Balthasar Baumgartner und Kirchenmu
 sikdirektor Carsten Zündorf findet samstags zur Marktzeit von 12:15 bis 12
 :45 Uhr im Wechsel zwischen Dom St. Petrus und St. Marien die Ökumenische 
 Marktmusik statt.\nhttps://kukuk.de/events/oekumenische-marktmusik-2/
URL:https://kukuk.de/events/oekumenische-marktmusik-2/
END:VEVENT
END:VCALENDAR