BEGIN:VCALENDAR
VERSION:2.0
PRODID:-//eventon.com NONSGML v1.0//EN
CALSCALE:GREGORIAN
METHOD:PUBLISH
BEGIN:VEVENT
UID:69e766a570934
DTSTAMP:20260421T115933Z
DTSTART:20260517T130000Z
DTEND:20260517T215900Z
LOCATION:Bersenbrück | Museum im Kloster Stiftshof 4
SUMMARY:„Hase fließt"
DESCRIPTION:Die Ausstellung entstand durch die Zusammenarbeit des Museums i
 m Kloster Bersenbrück mit dem Bund Bildender Künstler*innen Osnabrück. I
 nspiration und Ausgangspunkt dieser Ausstellung bildet der Fluss Hase\,  de
 r Landschaften\,  Städte und Menschen und eben auch Osnabrück und Bersenb
 rück miteinander verbindet. Von ihrer Quelle bis zur Ems fließt die Hase 
 durch den[..]\nhttps://kukuk.de/events/hase-fliesst-2/
URL:https://kukuk.de/events/hase-fliesst-2/
END:VEVENT
END:VCALENDAR