BEGIN:VCALENDAR
VERSION:2.0
PRODID:-//eventon.com NONSGML v1.0//EN
CALSCALE:GREGORIAN
METHOD:PUBLISH
BEGIN:VEVENT
UID:69ea008813a66
DTSTAMP:20260423T112040Z
DTSTART:20260513T173000Z
DTEND:20260513T215900Z
LOCATION:Osnabrück | Theater am Domhof Domhof 10/11
SUMMARY:„Frau Yamamoto ist noch da“
DESCRIPTION:Wir befinden uns mitten in einer großen Stadt. Was sehen wir? 
 Im Restaurant schiebt eine Frau ihre kranke Mutter als Grund vor\,  um nich
 t mit ihrem Freund zusammenziehen zu müssen. Im Fahrradladen schreibt ein
  Mann ein Liebesgedicht ins Nichts hinein. Im Park überzeugt eine Frau ei
 ne andere\,  für ein neues[..]\nhttps://kukuk.de/events/frau-yamamoto-ist
 -noch-da-2/
URL:https://kukuk.de/events/frau-yamamoto-ist-noch-da-2/
END:VEVENT
END:VCALENDAR