BEGIN:VCALENDAR
VERSION:2.0
PRODID:-//eventon.com NONSGML v1.0//EN
CALSCALE:GREGORIAN
METHOD:PUBLISH
BEGIN:VEVENT
UID:69e766a74494d
DTSTAMP:20260421T115935Z
DTSTART:20260510T160000Z
DTEND:20260510T215900Z
LOCATION:Osnabrück | Theater am Domhof Domhof 10/11
SUMMARY:7. Sinfonie­konzert
DESCRIPTION:Es wird ein spannender Dialog zwischen den Stilen des Barocks u
 nd der Moderne: Nach Corellis bekanntem „Concerto grosso“\,  einem Meis
 terwerk des Barocks\,  folgt Händels „Concerto grosso“. Dieses zeigt 
 den glanzvollen\,  festlichen Charakter des Barocks. Bachs „Brandenburgis
 ches Konzert Nr. 1“ ist mit seiner Vielfalt an Instrumenten und raffinier
 ten Strukturen ein strahlendes[..]\nhttps://kukuk.de/events/7-sinfoniekonze
 rt/
URL:https://kukuk.de/events/7-sinfoniekonzert/
END:VEVENT
END:VCALENDAR