BEGIN:VCALENDAR
VERSION:2.0
PRODID:-//eventon.com NONSGML v1.0//EN
CALSCALE:GREGORIAN
METHOD:PUBLISH
BEGIN:VEVENT
UID:69e9e3f02d1d1
DTSTAMP:20260423T091840Z
DTSTART:20260508T193000Z
DTEND:20260508T215900Z
LOCATION:Osnabrück | Emma-Theater Lotter Str. 6
SUMMARY:Klubnacht
DESCRIPTION:İpek İpekçioğlu alias DJ İpek) ist eine international erf
 olgreiche und mehrfach ausgezeichnete\,  in Berlin lebende DJane\,  Produze
 ntin\,  Kuratorin und Queer-Aktivistin. Mit ihren anatolischen Remixes\,  E
 dits und elektro-akustischen Produktionen bis hin zu TechnoTurka wird İpek
  einen einzigartigen Soundmix auflegen: Psychedelic Turkish Funk trifft auf
  Disko\,  Çiftetelli auf House\,  kurdischer Halay auf Elektro\, [..]\nhtt
 ps://kukuk.de/events/klubnacht/
URL:https://kukuk.de/events/klubnacht/
END:VEVENT
END:VCALENDAR