BEGIN:VCALENDAR
VERSION:2.0
PRODID:-//eventon.com NONSGML v1.0//EN
CALSCALE:GREGORIAN
METHOD:PUBLISH
BEGIN:VEVENT
UID:69e766a97767e
DTSTAMP:20260421T115937Z
DTSTART:20260427T193000Z
DTEND:20260427T235900Z
LOCATION:Osnabrück | Franz-von-Assisi-Schule Kleine Domsfreiheit 7
SUMMARY:„Wege aus dem Under­achievement“ | Grips & Co.
DESCRIPTION:Hochbegabten Kindern wird schnell eine hohe Leistungsfähigkeit
  nachgesagt. Doch was geschieht\,  wenn sie hinter ihren Möglichkeiten zur
 ückbleiben\,  Verhaltensauffälligkeiten zeigen oder ihr Wohlbefinden leid
 et? Nicht selten liegt die Ursache in einer anhaltenden Unterforderung\,  d
 ie sich auf Motivation\,  Lernfreude und emotionale Entwicklung auswirken k
 ann. In diesem Vortrag wird der Blick darauf gerichtet\, [..]\nhttps://kuku
 k.de/events/wege-aus-dem-underachievement-grips-co/
URL:https://kukuk.de/events/wege-aus-dem-underachievement-grips-co/
END:VEVENT
END:VCALENDAR