BEGIN:VCALENDAR
VERSION:2.0
PRODID:-//eventon.com NONSGML v1.0//EN
CALSCALE:GREGORIAN
METHOD:PUBLISH
BEGIN:VEVENT
UID:69e7668616556
DTSTAMP:20260421T115902Z
DTSTART:20260503T170000Z
DTEND:20260503T215900Z
LOCATION:OsnabrÃ¼ck | Innenstadt - PLZ 49074 (genaue Adresse wird nach Anmeldung+Zahlung mitgeteilt)
SUMMARY:Ludwig Wright | WohnzimmerÂ­konzerte OsnabrÃ¼ck
DESCRIPTION:Ludwig Wright hat die Lagerhalle beim 1. Wohnzimmerkonzerte-Fes
 tival in kÃ¼rzester Zeit zum Beben gebracht â€“ mitklatschen\,  mitsingen\,
   GÃ¤nsehaut inklusive. Seine Musik ist eine energiegeladene Mischung aus R
 ockâ€™nâ€™Roll und Folk. Auf der BÃ¼hne gibt er alles â€“ und genau das spÃ
 ¼rt man vom ersten Moment an. In seiner Art vereint er[..]\nhttps://kukuk.d
 e/events/ludwig-wright-wohnzimmerkonzerte-osnabrueck/
URL:https://kukuk.de/events/ludwig-wright-wohnzimmerkonzerte-osnabrueck/
END:VEVENT
END:VCALENDAR