BEGIN:VCALENDAR
VERSION:2.0
PRODID:-//eventon.com NONSGML v1.0//EN
CALSCALE:GREGORIAN
METHOD:PUBLISH
BEGIN:VEVENT
UID:69e766b118ab0
DTSTAMP:20260421T115945Z
DTSTART:20260522T170000Z
DTEND:20260522T215900Z
LOCATION:Osnabrück | Lagerhalle Rolandsmauer 26\,  49074 Osnabrück
SUMMARY:Ü55-Party
DESCRIPTION:Ob „A Hard Days Night“ von den Beatles\,  „Dance Little S
 ister“ von den Rolling Stones\,  „Beat it“ von Michael Jackson\,  „
 Maria“ von Blondie\,  „Mr Brightside“ von The Killers oder „Born Th
 is Way“ von Lady Gaga – das und noch vieles wird mitgebracht. Tragt ger
 ne mit euren Musikwünschen dazu bei\,  dass[..]\nhttps://kukuk.de/events/u
 e55-party/
URL:https://kukuk.de/events/ue55-party/
END:VEVENT
END:VCALENDAR