BEGIN:VCALENDAR
VERSION:2.0
PRODID:-//eventon.com NONSGML v1.0//EN
CALSCALE:GREGORIAN
METHOD:PUBLISH
BEGIN:VEVENT
UID:69e766675abe5
DTSTAMP:20260421T115831Z
DTSTART:20260607T160000Z
DTEND:20260607T215900Z
LOCATION:Osnabrück | Bergkirche Bergstr. 16
SUMMARY:Notos Klavier­quartett | Malgartener Kloster­konzerte
DESCRIPTION:Im Jahr 2023 spielte das junge Notos Klavierquartett eine sensa
 tionelle Matinee in Malgarten. Das Publikum war geradezu „aus dem Häusch
 en“. Wer von den Anwesenden damals die weitere Entwicklung des Quartetts 
 verfolgt\,  dürfte wenig überrascht sein\,  dass die Karrierekurve der vi
 er Musiker*innen gerade „verdammt“ steil nach oben zeigt. Wären all di
 es[..]\nhttps://kukuk.de/events/notos-klavierquartett-malgartener-klosterko
 nzerte/
URL:https://kukuk.de/events/notos-klavierquartett-malgartener-klosterkonzerte/
END:VEVENT
END:VCALENDAR