BEGIN:VCALENDAR
VERSION:2.0
PRODID:-//eventon.com NONSGML v1.0//EN
CALSCALE:GREGORIAN
METHOD:PUBLISH
BEGIN:VEVENT
UID:69e766d322d2a
DTSTAMP:20260421T120019Z
DTSTART:20260520T164500Z
DTEND:20260520T215900Z
LOCATION:Osnabrück | Lagerhalle Rolandsmauer 26\,  49074 Osnabrück
SUMMARY:Besser Wissen
DESCRIPTION:Der bunte Rätselabend in Quizrunden mit je 10 spannenden Frage
 n zu unterschiedlichen Themen. Teamgröße: 4-8 Personen Einlass: ab 18 Uhr
 \nhttps://kukuk.de/events/besser-wissen/
URL:https://kukuk.de/events/besser-wissen/
END:VEVENT
END:VCALENDAR