BEGIN:VCALENDAR
VERSION:2.0
PRODID:-//eventon.com NONSGML v1.0//EN
CALSCALE:GREGORIAN
METHOD:PUBLISH
BEGIN:VEVENT
UID:69e7668736d81
DTSTAMP:20260421T115903Z
DTSTART:20260503T090000Z
DTEND:20260503T215900Z
LOCATION:OsnabrÃ¼ck | Museum am SchÃ¶lerberg Klaus-Strick-Weg 12
SUMMARY:â€žRundgang: FacettenÂ­reiche Insektenâ€œ | SonntagsÂ­fÃ¼hrung
DESCRIPTION:Sie sind winzig und doch groÃŸartig: Insekten zÃ¤hlen zu den vi
 elfÃ¤ltigsten Lebewesen der Erde â€“ farbenprÃ¤chtig\,  vielgestaltig und p
 erfekt angepasst an fast jeden Lebensraum. Die Sonderausstellung lÃ¤dt dazu
  ein\,  diese oft Ã¼bersehenen Tiere neu zu entdecken und ihre Bedeutung fÃ
 ¼r Mensch und Natur zu verstehen. Die FÃ¼hrung wird auch in[..]\nhttps://ku
 kuk.de/events/rundgang-facettenreiche-insekten-sonntagsfuehrung/
URL:https://kukuk.de/events/rundgang-facettenreiche-insekten-sonntagsfuehrung/
END:VEVENT
END:VCALENDAR