BEGIN:VCALENDAR
VERSION:2.0
PRODID:-//eventon.com NONSGML v1.0//EN
CALSCALE:GREGORIAN
METHOD:PUBLISH
BEGIN:VEVENT
UID:69e74df26d37e
DTSTAMP:20260421T101410Z
DTSTART:20260502T120000Z
DTEND:20260502T163000Z
LOCATION:Treffpunkt: St. Martin Kirche Am Markt 1\,  Bramsche
SUMMARY:„Bach By Bike“
DESCRIPTION:14:00-15:00 Uhr: Auftaktkonzert: „Reise mit Bach“ Anna-Luis
 e Oppelt\,  Alt Mareike Neumann\,  Violine Jakob Gronemann\,  Orgel Gemeins
 ame Radtour zum Gut Sögeln\,  dort: 16:00-16:30 Uhr: Offenes Singen und Ga
 rtenlieder Kammerchor Vox humana Leitung: Eva Gronemann anschl. Picknick (S
 elbstversorgung!) Gemeinsame Radtour zur St. Johannis-Kirche Engter\,  dort
 : 18:00-18:30 Uhr: Jauchzet! &#8211; Chor- und Orgelmusik[..]\nhttps://kuku
 k.de/events/bach-by-bike/
URL:https://kukuk.de/events/bach-by-bike/
END:VEVENT
END:VCALENDAR