BEGIN:VCALENDAR
VERSION:2.0
PRODID:-//eventon.com NONSGML v1.0//EN
CALSCALE:GREGORIAN
METHOD:PUBLISH
BEGIN:VEVENT
UID:69e7379f6864d
DTSTAMP:20260421T083855Z
DTSTART:20260515T153000Z
DTEND:20260515T215900Z
LOCATION:Treffpunkt: ADFC-Treff Lohstr. 31\,  OS
SUMMARY:Auf ins Wochenende\,  ab in die Pedale | ADFC
DESCRIPTION:Mit einer kleinen Feierabendtour und netten Menschen das Wochen
 ende einläuten\,  auf guten verkehrsarmen Wegen eine Runde drehen und züg
 ig ins Wochenende starten. Am Ende findet sich immer ein Biergarten oder ei
 n Restaurant für eine kleine Einkehr. Länge: 30-35 km Tourleiter: Volker 
 Bartsch/Wolfgang Driehaus  Voraussetzungen sind ein verkehrssicheres Fahrr
 ad gem. StVZO[..]\nhttps://kukuk.de/events/auf-ins-wochenende-ab-in-die-ped
 ale-adfc-3/
URL:https://kukuk.de/events/auf-ins-wochenende-ab-in-die-pedale-adfc-3/
END:VEVENT
END:VCALENDAR