BEGIN:VCALENDAR
VERSION:2.0
PRODID:-//eventon.com NONSGML v1.0//EN
CALSCALE:GREGORIAN
METHOD:PUBLISH
BEGIN:VEVENT
UID:69e74df12ff62
DTSTAMP:20260421T101409Z
DTSTART:20260513T090000Z
DTEND:20260513T215900Z
LOCATION:Treffpunkt: Bahnhof Quakenbrück Am Bahnhof 1\,  Quakenbrück
SUMMARY:Rund um Quakenbrück | ADFC
DESCRIPTION:Die Teilnehmer*innen starten ihre Tour mit der Besichtigung der
  Firma Pfautec in Quakenbrück. Die Firma stellt Sonderfahrräder her – v
 on der Konstruktion bis zur Fertigung im eigenen Haus. Die zukunftsweisende
 n Fortbewegungsmittel für Menschen mit Mobilitätseinschränkungen schaffe
 n Freiheit und Lebensqualität für ein selbstbestimmtes Leben. Auf der ans
 chließenden Radtour entdeckt die Gruppe[..]\nhttps://kukuk.de/events/rund-
 um-quakenbrueck-adfc/
URL:https://kukuk.de/events/rund-um-quakenbrueck-adfc/
END:VEVENT
END:VCALENDAR