BEGIN:VCALENDAR
VERSION:2.0
PRODID:-//eventon.com NONSGML v1.0//EN
CALSCALE:GREGORIAN
METHOD:PUBLISH
BEGIN:VEVENT
UID:69e74d15adf05
DTSTAMP:20260421T101029Z
DTSTART:20260509T100000Z
DTEND:20260509T215900Z
LOCATION:Treffpunkt: Moskaubad Limberger Str. 47
SUMMARY:Über Stock und Stein durch Wald und Feld | ADFC
DESCRIPTION:MTB Tagestour. Die Teilnehmer*innen fahren über Feld- und Wald
 wege durch den Südkreis über Georgsmarienhütte und Hagen. In den Pausen 
 stärken sie sich aus ihren Packtaschen. Länge: 50 km  Tourleitung: Rober
 t Osterheider Voraussetzungen sind ein verkehrssicheres Fahrrad gem. StVZO 
 § 63a\,  Ersatzschlauch und Flickzeug. Die ADFC-Tourenleiter*innen nehmen 
 allein in Osnabrück jährlich[..]\nhttps://kukuk.de/events/ueber-stock-und
 -stein-durch-wald-und-feld-adfc/
URL:https://kukuk.de/events/ueber-stock-und-stein-durch-wald-und-feld-adfc/
END:VEVENT
END:VCALENDAR