BEGIN:VCALENDAR
VERSION:2.0
PRODID:-//eventon.com NONSGML v1.0//EN
CALSCALE:GREGORIAN
METHOD:PUBLISH
BEGIN:VEVENT
UID:69e74d29901d1
DTSTAMP:20260421T101049Z
DTSTART:20260508T143000Z
DTEND:20260508T215900Z
LOCATION:Treffpunkt: ADFC-Treff Lohstr. 31\,  OS
SUMMARY:Auf ins Wochenende\,  ab in die Pedale | ADFC
DESCRIPTION:Mit einer kleinen Feierabendtour und netten Menschen das Wochen
 ende einläuten\,  auf guten verkehrsarmen Wegen eine Runde drehen und züg
 ig ins Wochenende starten. Am Ende findet sich immer ein Biergarten oder ei
 n Restaurant für eine kleine Einkehr. Länge: 35 km Tourleiter: Volker Bar
 tsch  Voraussetzungen sind ein verkehrssicheres Fahrrad gem. StVZO §[..]\
 nhttps://kukuk.de/events/auf-ins-wochenende-ab-in-die-pedale-adfc-2/
URL:https://kukuk.de/events/auf-ins-wochenende-ab-in-die-pedale-adfc-2/
END:VEVENT
END:VCALENDAR