BEGIN:VCALENDAR
VERSION:2.0
PRODID:-//eventon.com NONSGML v1.0//EN
CALSCALE:GREGORIAN
METHOD:PUBLISH
BEGIN:VEVENT
UID:69e737a24474a
DTSTAMP:20260421T083858Z
DTSTART:20260505T100000Z
DTEND:20260505T215900Z
LOCATION:Treffpunkt: ADFC-Treff Lohstr. 31\,  OS
SUMMARY:Dienstags­runde | ADFC
DESCRIPTION:Entspannte Radtour meist abseits von Autostraßen\,  es können
  auch unbefestigt Wege dabei sein. Willkommen sind alle Radfahrbegeisterte 
 und solche die es noch werden wollen. Geeignet für die meisten Fahrradtype
 n wie Trecking-\,  Mountain-\,  Alltagsräder. Länge: ca. 55 km (willkürl
 iche Wahl\,  je nach Wetterlage)  Tourleitung: Holger Vogt Voraussetzungen
  sind ein verkehrssicheres Fahrrad[..]\nhttps://kukuk.de/events/dienstagsru
 nde-adfc-3/
URL:https://kukuk.de/events/dienstagsrunde-adfc-3/
END:VEVENT
END:VCALENDAR