BEGIN:VCALENDAR
VERSION:2.0
PRODID:-//eventon.com NONSGML v1.0//EN
CALSCALE:GREGORIAN
METHOD:PUBLISH
BEGIN:VEVENT
UID:69e74df0d6c62
DTSTAMP:20260421T101408Z
DTSTART:20260503T120000Z
DTEND:20260503T215900Z
LOCATION:Treffpunkt: ADFC-Treff Lohstr. 31\,  OS
SUMMARY:Kleine feine Sonntag­nachmittags­tour ins Nettetal | ADFC
DESCRIPTION:Über den Kanaltreidelpfad\,  die Haster Schleuse und am Gut Ho
 neburg vorbei steuern die Teilnehmer*innen zuerst die Karlsteine am Fuße d
 es Piesbergs an und fahren am Haster Berg vorbei nach Rulle. Dort erreicht 
 die Gruppe das Nettetal mit Knollmeyers Mühle und folgt der Nette mit ihre
 r großen Schleife bis zur Haster[..]\nhttps://kukuk.de/events/kleine-feine
 -sonntagnachmittagstour-ins-nettetal-adfc/
URL:https://kukuk.de/events/kleine-feine-sonntagnachmittagstour-ins-nettetal-adfc/
END:VEVENT
END:VCALENDAR