BEGIN:VCALENDAR
VERSION:2.0
PRODID:-//eventon.com NONSGML v1.0//EN
CALSCALE:GREGORIAN
METHOD:PUBLISH
BEGIN:VEVENT
UID:69e766f959578
DTSTAMP:20260421T120057Z
DTSTART:20260502T070000Z
DTEND:20260502T215900Z
LOCATION:Treffpunkt: ADFC-Treff Lohstr. 31\,  OS
SUMMARY:Kulturradeln: Stift Börstel – Die schönste Tour im Osnabrücker Land... | ADFC
DESCRIPTION:&#8230; für Radfahrer*innen\,  die noch gerne ohne Motorhilfe 
 unterwegs sind! Die landschaftlich und kulturell eindrucksvolle Strecke fü
 hrt die Teilnehmer*innen zunächst über Achmer und den Gehn nach Merzen\, 
  wo sie in Annes Backstube Pause machen. Über die Ankumer Höhen\,  vorbei
  an der Wassermühle Wöstenesch\,  gelangt die Gruppe zum ehemaligen Ziste
 rzienserinnenkloster Börstel\, [..]\nhttps://kukuk.de/events/kulturradeln-
 stift-boerstel-die-schoenste-tour-im-osnabruecker-land-adfc/
URL:https://kukuk.de/events/kulturradeln-stift-boerstel-die-schoenste-tour-im-osnabruecker-land-adfc/
END:VEVENT
END:VCALENDAR