BEGIN:VCALENDAR
VERSION:2.0
PRODID:-//eventon.com NONSGML v1.0//EN
CALSCALE:GREGORIAN
METHOD:PUBLISH
BEGIN:VEVENT
UID:69e737aa46084
DTSTAMP:20260421T083906Z
DTSTART:20260501T090000Z
DTEND:20260501T215900Z
LOCATION:Treffpunkt: ADFC-Treff Lohstr. 31\,  OS
SUMMARY:Zum Kleinen Berg | ADFC
DESCRIPTION:Über Sutthausen\,  GMHütte\,  Oesede\,  Wellendorf\,  Borgloh
 er Egge\,  Bad Rothenfelde\,  Einkehr nach 34 km in Bismarckhütte. Rückfa
 hrt über Remsede\,  Glane\,  Bad Iburg\,  Hagen\,  Holzhausen. Nicht alle 
 Wege sind geteert und gefegt\,  es sind auch Waldwirtschaftswege dabei. Lä
 nge: 61 km  Tourleitung: Guido Wenner Voraussetzungen sind ein verkehrssic
 heres Fahrrad gem. StVZO § 63a\, [..]\nhttps://kukuk.de/events/zum-kleinen
 -berg-adfc/
URL:https://kukuk.de/events/zum-kleinen-berg-adfc/
END:VEVENT
END:VCALENDAR