BEGIN:VCALENDAR
VERSION:2.0
PRODID:-//eventon.com NONSGML v1.0//EN
CALSCALE:GREGORIAN
METHOD:PUBLISH
BEGIN:VEVENT
UID:69e737abda3ff
DTSTAMP:20260421T083907Z
DTSTART:20260501T090000Z
DTEND:20260501T215900Z
LOCATION:Treffpunkt: Rathaus Melle Markt 22
SUMMARY:Feldmarksee-Tour (Melle-Sassenberg-Melle) | ADFC
DESCRIPTION:Am Eröffnungstag des 3. Meller Stadtradelns geht es von Melle 
 ins Erholungsgebiet Feldmarksee\,  zum Haus Schücking und zur ehemaligen P
 roduktionsstätte der Gebrasa-Wolle. Eine Einkehr am Feldmarksee oder in de
 r Sassenberger Innenstadt ist möglich. Die Rückkehr nach Melle ist für c
 a. 19 Uhr geplant. Länge: 90 km  Tourleitung: Wilhelm Habighorst Vorausse
 tzungen[..]\nhttps://kukuk.de/events/feldmarksee-tour-melle-sassenberg-mell
 e-adfc/
URL:https://kukuk.de/events/feldmarksee-tour-melle-sassenberg-melle-adfc/
END:VEVENT
END:VCALENDAR