BEGIN:VCALENDAR
VERSION:2.0
PRODID:-//eventon.com NONSGML v1.0//EN
CALSCALE:GREGORIAN
METHOD:PUBLISH
BEGIN:VEVENT
UID:69e74d27e6090
DTSTAMP:20260421T101047Z
DTSTART:20260426T090000Z
DTEND:20260426T215900Z
LOCATION:Treffpunkt: ADFC-Treff Lohstr. 31\,  OS
SUMMARY:Auf den Spuren der Montan­industrie\,  Teil 1 | ADFC
DESCRIPTION:Kohle und Stahl prägten bereits im vorletzten Jahrhundert die 
 wirtschaftliche Entwicklung des Osnabrücker Landes. Die Teilnehmer*innen b
 egeben sich auf Spurensuche und erfahren die Geschichte der Montanindustrie
  in und um Osnabrück. Der erste Teil der Tour führt durch Osnabrück\,  u
 m den Piesberg\,  bis nach Hagen a. T. W. und zurück. Ein[..]\nhttps://kuk
 uk.de/events/auf-den-spuren-der-montanindustrie-teil-1-adfc/
URL:https://kukuk.de/events/auf-den-spuren-der-montanindustrie-teil-1-adfc/
END:VEVENT
END:VCALENDAR