BEGIN:VCALENDAR
VERSION:2.0
PRODID:-//eventon.com NONSGML v1.0//EN
CALSCALE:GREGORIAN
METHOD:PUBLISH
BEGIN:VEVENT
UID:69e74d1b2875c
DTSTAMP:20260421T101035Z
DTSTART:20260425T090000Z
DTEND:20260425T215900Z
LOCATION:Treffpunkt: ADFC-Treff Lohstr. 31\,  OS
SUMMARY:Aufwärts nach Mettingen... | ADFC
DESCRIPTION:Auch im neuen Jahr wollen die Teilnehmer*innen die Berge nach M
 ettingen wieder einmal kontrollieren. In Mettingen stärken sie sich mit Ka
 ffee und Kuchen und nehmen danach auf dem Rückweg noch einige Steigungen m
 it. Länge: 60 km  Tourleitung: Bernhard Lang Voraussetzungen sind ein ver
 kehrssicheres Fahrrad gem. StVZO § 63a\,  Ersatzschlauch und[..]\nhttps://
 kukuk.de/events/aufwaerts-nach-mettingen-adfc/
URL:https://kukuk.de/events/aufwaerts-nach-mettingen-adfc/
END:VEVENT
END:VCALENDAR