BEGIN:VCALENDAR
VERSION:2.0
PRODID:-//eventon.com NONSGML v1.0//EN
CALSCALE:GREGORIAN
METHOD:PUBLISH
BEGIN:VEVENT
UID:69e74def96625
DTSTAMP:20260421T101407Z
DTSTART:20251003
DTEND:20251004
LOCATION:Melle | Automuseum Melle Pestelstr. 38-40
SUMMARY:„Arschbreit“
DESCRIPTION:„Arschbreit“\nhttps://kukuk.de/events/arschbreit/
URL:https://kukuk.de/events/arschbreit/
END:VEVENT
END:VCALENDAR