BEGIN:VCALENDAR
VERSION:2.0
PRODID:-//eventon.com NONSGML v1.0//EN
CALSCALE:GREGORIAN
METHOD:PUBLISH
BEGIN:VEVENT
UID:69e74defbf401
DTSTAMP:20260421T101407Z
DTSTART:19700101
DTEND:19700102
LOCATION:Melle | Automuseum Melle Pestelstr. 38-40
SUMMARY:Automuseum Melle – Garage der Erinne­rungen
DESCRIPTION:Hinter der Fassade einer denkmalgeschützten Fabrik können Sie
  die Geschichte des Automobils auf ungewöhnliche Weise entdecken: Das Auto
 museum Melle präsentiert auf drei Etage über 300 Fahrzeuge aus aus versch
 iedenen Epochen des Automobilbaus. Das Besonderes des Museums ist jedoch da
 s Konzept: Alle Exponate sind fahrbereit und werden auch noch regelmäßig 
 genutzt.[..]\nhttps://kukuk.de/events/automuseum-melle-garage-der-erinnerun
 gen/
URL:https://kukuk.de/events/automuseum-melle-garage-der-erinnerungen/
END:VEVENT
END:VCALENDAR