BEGIN:VCALENDAR
VERSION:2.0
PRODID:-//eventon.com NONSGML v1.0//EN
CALSCALE:GREGORIAN
METHOD:PUBLISH
BEGIN:VEVENT
UID:69e766f6af0e9
DTSTAMP:20260421T120054Z
DTSTART:20260430T173000Z
DTEND:20260430T215900Z
LOCATION:Bad Rothenfelde | Haus des Gastes Am Kurpark 12
SUMMARY:Draufsänger: „Ohne Filter“
DESCRIPTION:Das neue A-cappella-Programm der Draufsänger aus Osnabrück wi
 rd das Publikum begeistern. Ungefiltert stellen die sechs Sänger ihre Sich
 t auf eine komplexe Welt dar\,  verpackt in hochklassige Texte und mitreiß
 ende Musik. Die emotionale Bandbreite reicht von augenzwinkerndem Humor üb
 er das Lachen\,  das im Halse stecken bleibt\,  bis hin zu nachdenklichen T
 önen.[..]\nhttps://kukuk.de/events/draufsaenger-ohne-filter/
URL:https://kukuk.de/events/draufsaenger-ohne-filter/
END:VEVENT
END:VCALENDAR