BEGIN:VCALENDAR
VERSION:2.0
PRODID:-//eventon.com NONSGML v1.0//EN
CALSCALE:GREGORIAN
METHOD:PUBLISH
BEGIN:VEVENT
UID:69e766c1d565e
DTSTAMP:20260421T120001Z
DTSTART:20260505T170000Z
DTEND:20260505T190000Z
LOCATION:Osnabrück | Buchhandlung zur Heide Dielingerstr. 42 B
SUMMARY:Kristof Magnusson: „Die Reise ans Ende der Geschichte“ | Littera
DESCRIPTION:Der große neue Roman von Kristof Magnusson erzählt von einer 
 Zeit\,  als alles möglich erschien und doch vieles tragikomisch schief gin
 g: Ein Doppelagent will in Kasachstan ein letztes großes Ding drehen\,  ei
 n Dichter hofft auf das Abenteuer seines Lebens und eine Italienischlehreri
 n versucht\,  das Schlimmste zu verhindern. Anfang der 90er[..]\nhttps://ku
 kuk.de/events/kristof-magnusson-die-reise-ans-ende-der-geschichte-littera/
URL:https://kukuk.de/events/kristof-magnusson-die-reise-ans-ende-der-geschichte-littera/
END:VEVENT
END:VCALENDAR