BEGIN:VCALENDAR
VERSION:2.0
PRODID:-//eventon.com NONSGML v1.0//EN
CALSCALE:GREGORIAN
METHOD:PUBLISH
BEGIN:VEVENT
UID:69e766b28ca56
DTSTAMP:20260421T115946Z
DTSTART:20260509T180000Z
DTEND:20260509T215900Z
LOCATION:Melle | B22 – Buer-Kultur e. V. Alter Handelsweg 22\,  Melle-Buer
SUMMARY:Dampfmaschine + God Is An Alien | Local Heroes
DESCRIPTION:Dampfmaschine geht dorthin wo es weh tut. Keine Kompromisse. W
 enn der Schweiß von der Decke tropft und die Maschine die Bühne überroll
 t\,  ist das nicht nur eine gigantische Wand aus massivem Sound\,  sondern 
 macht auch noch Spaß. Für nicht wenige ist Dampfmaschine nach etlichen To
 uren und Veröffentlichungen geheimer Untergrund-Hits zu Recht[..]\nhttps:/
 /kukuk.de/events/dampfmaschine-god-is-an-alien-local-heroes/
URL:https://kukuk.de/events/dampfmaschine-god-is-an-alien-local-heroes/
END:VEVENT
END:VCALENDAR