BEGIN:VCALENDAR
VERSION:2.0
PRODID:-//eventon.com NONSGML v1.0//EN
CALSCALE:GREGORIAN
METHOD:PUBLISH
BEGIN:VEVENT
UID:69e766f71bdc4
DTSTAMP:20260421T120055Z
DTSTART:20260430T180000Z
DTEND:20260430T215900Z
LOCATION:Melle | B22 – Buer-Kultur e. V. Alter Handelsweg 22\,  Melle-Buer
SUMMARY:Billy Walton Band
DESCRIPTION:Billy Walton ist ein talentierter Gitarrenmeister aus der leben
 digen Musikszene von New Jersey Shore. Mit seiner Erfahrung als Leadgitaris
 t für die Jersey-Ikone Southside Johnny und Auftritten mit Legenden wie Li
 ttle Steven und Steven Tyler hat er sich einen Namen gemacht. Die Billy Wal
 ton Band entstand aus diesem reichen musikalischen Erbe\, [..]\nhttps://kuk
 uk.de/events/billy-walton-band/
URL:https://kukuk.de/events/billy-walton-band/
END:VEVENT
END:VCALENDAR