BEGIN:VCALENDAR
VERSION:2.0
PRODID:-//eventon.com NONSGML v1.0//EN
CALSCALE:GREGORIAN
METHOD:PUBLISH
BEGIN:VEVENT
UID:69e766b023f05
DTSTAMP:20260421T115944Z
DTSTART:20260530T173000Z
DTEND:20260530T215900Z
LOCATION:Mettingen | Draiflessen Conference Georgstr. 18
SUMMARY:Phil Siemers: â€žWas wenn dochâ€œ | meetMUSIC
DESCRIPTION:Der Hamburger Singer-Songwriter geht mit seinem dritten Album a
 uf Tour und bringt Songs voller GefÃ¼hl\,  Groove und Tiefe auf die BÃ¼hne.
  In nur zwÃ¶lf Tagen per Crowdfunding finanziert\,  steht das Album fÃ¼r NÃ
 ¤he zum Publikum und kÃ¼nstlerische StÃ¤rke. MitreiÃŸende Hymnen\,  berÃ¼hr
 ende Balladen wie â€žMila &amp; Juriâ€œ und das Duett â€žBring[..]\nhttps:/
 /kukuk.de/events/phil-siemers-was-wenn-doch-meetmusic/
URL:https://kukuk.de/events/phil-siemers-was-wenn-doch-meetmusic/
END:VEVENT
END:VCALENDAR